BEGIN:VCALENDAR
VERSION:2.0
PRODID:-//Consell Juventut Castelló - ECPv6.3.1//NONSGML v1.0//EN
CALSCALE:GREGORIAN
METHOD:PUBLISH
X-ORIGINAL-URL:https://www.consellcastello.org/val
X-WR-CALDESC:Esdeveniments per Consell Juventut Castelló
REFRESH-INTERVAL;VALUE=DURATION:PT1H
X-Robots-Tag:noindex
X-PUBLISHED-TTL:PT1H
BEGIN:VTIMEZONE
TZID:UTC
BEGIN:STANDARD
TZOFFSETFROM:+0000
TZOFFSETTO:+0000
TZNAME:UTC
DTSTART:20220101T000000
END:STANDARD
END:VTIMEZONE
BEGIN:VEVENT
DTSTART;TZID=UTC:20221112T000000
DTEND;TZID=UTC:20221112T010000
DTSTAMP:20260423T013511
CREATED:20220818T085925Z
LAST-MODIFIED:20221111T090405Z
UID:2581-1668211200-1668214800@www.consellcastello.org
SUMMARY:ASSEMBLEA GENERAL EXTRAORDINÀRIA
DESCRIPTION:El próximo 12 de noviembre\, el Consell de la Joventut de Castelló organizará su siguiente Asamblea General Extraordinaria. \nACTA \nEl pròxim 12 de novembre\, el Consell de la Joventut de Castelló organitzarà la seua següent Assemblea General Extraordinària.
URL:https://www.consellcastello.org/val/evento/assemblea-general-extraordinaria/
LOCATION:Menador\, Plaça de l'Hort dels Corders\, 4\, 12001\, Castelló de la Plana\, Castelló\, 12001\, España
ATTACH;FMTTYPE=image/png:https://www.consellcastello.org/wp-content/uploads/2022/08/ASAMBLEA-GENERAL-EXTRAORDINARIA.png
END:VEVENT
END:VCALENDAR