BEGIN:VCALENDAR
VERSION:2.0
PRODID:-//Consell Juventut Castelló - ECPv6.3.1//NONSGML v1.0//EN
CALSCALE:GREGORIAN
METHOD:PUBLISH
X-WR-CALNAME:Consell Juventut Castelló
X-ORIGINAL-URL:https://www.consellcastello.org/val
X-WR-CALDESC:Esdeveniments per Consell Juventut Castelló
REFRESH-INTERVAL;VALUE=DURATION:PT1H
X-Robots-Tag:noindex
X-PUBLISHED-TTL:PT1H
BEGIN:VTIMEZONE
TZID:UTC
BEGIN:STANDARD
TZOFFSETFROM:+0000
TZOFFSETTO:+0000
TZNAME:UTC
DTSTART:20230101T000000
END:STANDARD
END:VTIMEZONE
BEGIN:VEVENT
DTSTART;TZID=UTC:20230225T180000
DTEND;TZID=UTC:20230225T203000
DTSTAMP:20260422T221709
CREATED:20230130T092929Z
LAST-MODIFIED:20230130T092929Z
UID:2619-1677348000-1677357000@www.consellcastello.org
SUMMARY:CONVOCATORIA ASAMBLEA GENERAL ORDINARIA Y EXTRAORDINARIA
DESCRIPTION:Convocatoria Asamblea General Ordinaria y Extraordinaria
URL:https://www.consellcastello.org/val/evento/convocatoria-asamblea-general-ordinaria-y-extraordinaria/
END:VEVENT
END:VCALENDAR