BEGIN:VCALENDAR
VERSION:2.0
PRODID:-//Consell Juventut Castelló - ECPv6.3.1//NONSGML v1.0//EN
CALSCALE:GREGORIAN
METHOD:PUBLISH
X-WR-CALNAME:Consell Juventut Castelló
X-ORIGINAL-URL:https://www.consellcastello.org/val
X-WR-CALDESC:Esdeveniments per Consell Juventut Castelló
REFRESH-INTERVAL;VALUE=DURATION:PT1H
X-Robots-Tag:noindex
X-PUBLISHED-TTL:PT1H
BEGIN:VTIMEZONE
TZID:UTC
BEGIN:STANDARD
TZOFFSETFROM:+0000
TZOFFSETTO:+0000
TZNAME:UTC
DTSTART:20220101T000000
END:STANDARD
END:VTIMEZONE
BEGIN:VEVENT
DTSTART;TZID=UTC:20220305T110000
DTEND;TZID=UTC:20220305T130000
DTSTAMP:20260423T204122
CREATED:20220223T100229Z
LAST-MODIFIED:20220818T090333Z
UID:2349-1646478000-1646485200@www.consellcastello.org
SUMMARY:ASAMBLEA GENERAL EXTRAORDINARIA 2022
DESCRIPTION:El próximo 5 de marzo\, el Consell de la Joventut de Castelló organizará su siguiente Asamblea General Extraordinaria. \nClick aquí para más información \nEl pròxim 5 de març\, el Consell de la *Joventut de Castelló organitzarà la seua següent Assemblea General Extraordinària. \nClic ací per a més informació
URL:https://www.consellcastello.org/val/evento/asamblea-general-extraordinaria-2022/
LOCATION:Menador\, Plaça de l'Hort dels Corders\, 4\, 12001\, Castelló de la Plana\, Castelló\, 12001\, España
ATTACH;FMTTYPE=image/png:https://www.consellcastello.org/wp-content/uploads/2022/02/Assemblea-General-Extraordinaria-5.png
END:VEVENT
END:VCALENDAR